BEGIN:VCALENDAR
VERSION:2.0
PRODID:-//Talks.cam//talks.cam.ac.uk//
X-WR-CALNAME:Talks.cam
BEGIN:VEVENT
SUMMARY:&quot\;RNA Structure\, Catalysis and the Origin of Life&quot\; - D
 r Bill Scott:  University of California\, Santa Cruz\, USA
DTSTART:20071106T161500Z
DTEND:20071106T171500Z
UID:TALK8971@talks.cam.ac.uk
CONTACT:7222
DESCRIPTION:Abstract not available
LOCATION:Max Perutz Lecture Theatre\, LMB Building\, Hills Road\, Cambridg
 e
END:VEVENT
END:VCALENDAR
