BEGIN:VCALENDAR
VERSION:2.0
PRODID:-//Talks.cam//talks.cam.ac.uk//
X-WR-CALNAME:Talks.cam
BEGIN:VEVENT
SUMMARY:Birational automorphisms\, log canonical thresholds and Kahler-Ein
 stein metrics - Ivan Cheltsov (Edinburgh)
DTSTART:20071114T150000Z
DTEND:20071114T160000Z
UID:TALK9052@talks.cam.ac.uk
CONTACT:Ivan Smith
DESCRIPTION:Abstract not available
LOCATION:MR13\, CMS
END:VEVENT
END:VCALENDAR
