BEGIN:VCALENDAR
VERSION:2.0
PRODID:-//Talks.cam//talks.cam.ac.uk//
X-WR-CALNAME:Talks.cam
BEGIN:VEVENT
SUMMARY:The Homo Sapiens explosion: new archaeological and genetic perspec
 tives - Prof. Paul Mellars: University of Cambridge.
DTSTART:20071121T170000Z
DTEND:20071121T180000Z
UID:TALK9115@talks.cam.ac.uk
DESCRIPTION:Abstract not available
LOCATION:Mill Lane Lecture Room 3
END:VEVENT
END:VCALENDAR
