BEGIN:VCALENDAR
VERSION:2.0
PRODID:-//Talks.cam//talks.cam.ac.uk//
X-WR-CALNAME:Talks.cam
BEGIN:VEVENT
SUMMARY:Variational methods - Inference Group
DTSTART:20071112T111500Z
DTEND:20071112T121500Z
UID:TALK9141@talks.cam.ac.uk
CONTACT:Carl Scheffler
DESCRIPTION:This discussion follows last week's on loopy belief propagatio
 n. This week we will look at variational methods for approximate inference
 .\n\nReferences:\n* John Winn's Ph.D. thesis: "Variational Message Passing
  and its Applications":http://johnwinn.org/Publications/Thesis.html\n* Cha
 pter 10 of Christopher Bishop's book: "Pattern Recognition and Machine Lea
 rning"\n
LOCATION:TCM Seminar Room\, Cavendish Laboratory\, Department of Physics
END:VEVENT
END:VCALENDAR
