BEGIN:VCALENDAR
VERSION:2.0
PRODID:-//Talks.cam//talks.cam.ac.uk//
X-WR-CALNAME:Talks.cam
BEGIN:VEVENT
SUMMARY:Monkeys seeing red: Signal content of red coloration in mandrills 
 - Jo Setchell\, Durham University
DTSTART:20080219T170000Z
DTEND:20080219T180000Z
UID:TALK9151@talks.cam.ac.uk
CONTACT:Brenda Bradley
DESCRIPTION:Abstract not available
LOCATION:Part II Lecture Theatre\, Department of Zoology
END:VEVENT
END:VCALENDAR
