BEGIN:VCALENDAR
VERSION:2.0
PRODID:-//Talks.cam//talks.cam.ac.uk//
X-WR-CALNAME:Talks.cam
BEGIN:VEVENT
SUMMARY:Probing physics beyond the Standard Model with neutrinos - Dr Hein
 rich Paes (Dortmund)
DTSTART:20080229T160000Z
DTEND:20080229T170000Z
UID:TALK9250@talks.cam.ac.uk
CONTACT:Are Raklev
DESCRIPTION:Abstract not available
LOCATION:MR13\, CMS
END:VEVENT
END:VCALENDAR
