BEGIN:VCALENDAR
VERSION:2.0
PRODID:-//Talks.cam//talks.cam.ac.uk//
X-WR-CALNAME:Talks.cam
BEGIN:VEVENT
SUMMARY:Values and Science Research - What is Science for? - Prof. Tom McL
 eish:  Director\, Polymer Interdisciplinary Research Centre\, University o
 f Leeds
DTSTART:20071127T123000Z
DTEND:20071127T133000Z
UID:TALK9274@talks.cam.ac.uk
CONTACT:7235
DESCRIPTION:Abstract not available
LOCATION:Garden Room\, Library Building\, St Edmund's College
END:VEVENT
END:VCALENDAR
