BEGIN:VCALENDAR
VERSION:2.0
PRODID:-//Talks.cam//talks.cam.ac.uk//
X-WR-CALNAME:Talks.cam
BEGIN:VEVENT
SUMMARY:Key Debates in Disability and International Development:  Where ar
 e we now\, where are we going? - Professor Nora Groce\, Leonard Cheshire D
 isability and Inclusive Development Centre\, University College London
DTSTART:20171017T110000Z
DTEND:20171017T120000Z
UID:TALK93469@talks.cam.ac.uk
CONTACT:49145
DESCRIPTION:Abstract not available
LOCATION:Donald McIntyre Building\, Faculty of Education\, 184 Hills Road\
 , Cambridge\, CB2 8PQ\, Room 2S7
END:VEVENT
END:VCALENDAR
