BEGIN:VCALENDAR
VERSION:2.0
PRODID:-//Talks.cam//talks.cam.ac.uk//
X-WR-CALNAME:Talks.cam
BEGIN:VEVENT
SUMMARY:The neurobiology of hunger - Dr Zachary Knight\, UCSF School of Me
 dicine
DTSTART:20171201T090000Z
DTEND:20171201T100000Z
UID:TALK94135@talks.cam.ac.uk
CONTACT:Karen Laurence
DESCRIPTION:Abstract not available
LOCATION:Institute of Metabolic Science (IMS)\, Level 4 ATC\, Seminar room
 s 1-2 
END:VEVENT
END:VCALENDAR
