BEGIN:VCALENDAR
VERSION:2.0
PRODID:-//Talks.cam//talks.cam.ac.uk//
X-WR-CALNAME:Talks.cam
BEGIN:VEVENT
SUMMARY:Establishing distribution\, habitat and landscape-use of the Andea
 n bear - Shaenandhoa Garcia-Rangel
DTSTART:20080222T130000Z
DTEND:20080222T140000Z
UID:TALK9425@talks.cam.ac.uk
CONTACT:Tiffany Bogich
DESCRIPTION:Abstract not available
LOCATION:Part II Lecture Theatre\, Department of Zoology
END:VEVENT
END:VCALENDAR
