BEGIN:VCALENDAR
VERSION:2.0
PRODID:-//Talks.cam//talks.cam.ac.uk//
X-WR-CALNAME:Talks.cam
BEGIN:VEVENT
SUMMARY:Doing emotions in Medieval Arabic - Professor Julia Bray\, Univers
 ity of Oxford
DTSTART:20171116T171500Z
DTEND:20171116T184500Z
UID:TALK94669@talks.cam.ac.uk
CONTACT:Dr Charis Olszok
DESCRIPTION:Abstract not available
LOCATION:FAMES\, Room 8/9
END:VEVENT
END:VCALENDAR
