BEGIN:VCALENDAR
VERSION:2.0
PRODID:-//Talks.cam//talks.cam.ac.uk//
X-WR-CALNAME:Talks.cam
BEGIN:VEVENT
SUMMARY:Transmission Electron Microscopy Studies Of Photoactive Nanomateri
 als - Dr Caterina Ducati\, Materials Science &amp\; Metallurgy\, Universit
 y of Cambridge\, UK
DTSTART:20171201T160000Z
DTEND:20171201T170000Z
UID:TALK94795@talks.cam.ac.uk
CONTACT:Yarjan Abdul Samad
DESCRIPTION:Abstract not available
LOCATION:Cambridge Graphene Centre\, 9 JJ Thomson Avenue\, Cambridge CB3 O
 FA\, UK
END:VEVENT
END:VCALENDAR
