BEGIN:VCALENDAR
VERSION:2.0
PRODID:-//Talks.cam//talks.cam.ac.uk//
X-WR-CALNAME:Talks.cam
BEGIN:VEVENT
SUMMARY:From quasiclassics to nested Bethe ansatze - Vieira\, P (Ecole Nor
 male Superieure)
DTSTART:20071213T140000Z
DTEND:20071213T142000Z
UID:TALK9480@talks.cam.ac.uk
CONTACT:Mustapha Amrani
DESCRIPTION:
LOCATION:Seminar Room1 INI
END:VEVENT
END:VCALENDAR
