BEGIN:VCALENDAR
VERSION:2.0
PRODID:-//Talks.cam//talks.cam.ac.uk//
X-WR-CALNAME:Talks.cam
BEGIN:VEVENT
SUMMARY:On bound states of the light-cone AdS5 x S5 superstring - Frolov\,
  S (Trinity College Dublin)
DTSTART:20071214T153000Z
DTEND:20071214T161000Z
UID:TALK9492@talks.cam.ac.uk
CONTACT:Mustapha Amrani
DESCRIPTION:
LOCATION:Seminar Room1 INI
END:VEVENT
END:VCALENDAR
