BEGIN:VCALENDAR
VERSION:2.0
PRODID:-//Talks.cam//talks.cam.ac.uk//
X-WR-CALNAME:Talks.cam
BEGIN:VEVENT
SUMMARY:Seeing the wood for trees: analysing multiple alternative phylogen
 ies - Nye\, T (Newcastle )
DTSTART:20071217T113000Z
DTEND:20071217T115000Z
UID:TALK9493@talks.cam.ac.uk
CONTACT:Mustapha Amrani
DESCRIPTION:
LOCATION:Seminar Room1 INI
END:VEVENT
END:VCALENDAR
