BEGIN:VCALENDAR
VERSION:2.0
PRODID:-//Talks.cam//talks.cam.ac.uk//
X-WR-CALNAME:Talks.cam
BEGIN:VEVENT
SUMMARY:Type I IFN induces CXCL13-driven B cell recruitment to the lung to
  enable tertiary GC formation - Dr Michelle Linterman\, Babraham Institute
 \, Cambridge
DTSTART:20180314T123000Z
DTEND:20180314T133000Z
UID:TALK95020@talks.cam.ac.uk
CONTACT:Sue Griffin
DESCRIPTION:Abstract not available
LOCATION:Lecture Theatre\, Department of Pathology\, Tennis Court Road
END:VEVENT
END:VCALENDAR
