BEGIN:VCALENDAR
VERSION:2.0
PRODID:-//Talks.cam//talks.cam.ac.uk//
X-WR-CALNAME:Talks.cam
BEGIN:VEVENT
SUMMARY:An exact algorithm for computing the geodesic distance between phy
 logenetic trees - Kupczok\, A (CIBIV)
DTSTART:20071218T100000Z
DTEND:20071218T102000Z
UID:TALK9505@talks.cam.ac.uk
CONTACT:Mustapha Amrani
DESCRIPTION:
LOCATION:Seminar Room1 INI
END:VEVENT
END:VCALENDAR
