BEGIN:VCALENDAR
VERSION:2.0
PRODID:-//Talks.cam//talks.cam.ac.uk//
X-WR-CALNAME:Talks.cam
BEGIN:VEVENT
SUMMARY:Markov models of protein evolution: Lets get real! - Roger\, A (Da
 lhousie )
DTSTART:20071220T090000Z
DTEND:20071220T100000Z
UID:TALK9519@talks.cam.ac.uk
CONTACT:Mustapha Amrani
DESCRIPTION:
LOCATION:Seminar Room1 INI
END:VEVENT
END:VCALENDAR
