BEGIN:VCALENDAR
VERSION:2.0
PRODID:-//Talks.cam//talks.cam.ac.uk//
X-WR-CALNAME:Talks.cam
BEGIN:VEVENT
SUMMARY:Reconstruction of certain phylogenetic networks from the genomes a
 t leaves - Willson\, S (Iowa State)
DTSTART:20071220T155000Z
DTEND:20071220T161000Z
UID:TALK9524@talks.cam.ac.uk
CONTACT:Mustapha Amrani
DESCRIPTION:
LOCATION:Seminar Room1 INI
END:VEVENT
END:VCALENDAR
