BEGIN:VCALENDAR
VERSION:2.0
PRODID:-//Talks.cam//talks.cam.ac.uk//
X-WR-CALNAME:Talks.cam
BEGIN:VEVENT
SUMMARY:Towards an interdisciplinary view of shoot apical meristem functio
 n - Prof. Jan Traas:  Ecole Normale Superieure Lyon
DTSTART:20080214T160000Z
DTEND:20080214T170000Z
UID:TALK9550@talks.cam.ac.uk
CONTACT:3901
DESCRIPTION:Abstract not available
LOCATION:Large Lecture Theatre\, Department of Plant Sciences
END:VEVENT
END:VCALENDAR
