BEGIN:VCALENDAR
VERSION:2.0
PRODID:-//Talks.cam//talks.cam.ac.uk//
X-WR-CALNAME:Talks.cam
BEGIN:VEVENT
SUMMARY:Pictures of data: improving scientific illustrations - Matt Davis 
 (MRC-CBU)
DTSTART:20080310T161500Z
DTEND:20080310T174500Z
UID:TALK9588@talks.cam.ac.uk
CONTACT:Sian Miller
DESCRIPTION:Abstract not available
LOCATION:MRC-CBU
END:VEVENT
END:VCALENDAR
