BEGIN:VCALENDAR
VERSION:2.0
PRODID:-//Talks.cam//talks.cam.ac.uk//
X-WR-CALNAME:Talks.cam
BEGIN:VEVENT
SUMMARY:DrugBank2 - Prof. David Wishart (University of Alberta)
DTSTART:20080204T103000Z
DTEND:20080204T110000Z
UID:TALK9610@talks.cam.ac.uk
CONTACT:Dominic Clark
DESCRIPTION:Prof. David Wishart (University of Alberta) is the PI for Drug
 Bank (redpoll.pharmacy.ualberta.ca/drugbank/). This presentation will desc
 ribe the new release DrugBank2.
LOCATION:Room M203\, Murray Building\, Wellcome Trust Genome Campus\, Hinx
 ton
END:VEVENT
END:VCALENDAR
