BEGIN:VCALENDAR
VERSION:2.0
PRODID:-//Talks.cam//talks.cam.ac.uk//
X-WR-CALNAME:Talks.cam
BEGIN:VEVENT
SUMMARY:Konrad Bajer Commemorative Symposium - Krzyszlof Mizerski (Polish 
 Academy of Sciences)
DTSTART:20171212T141500Z
DTEND:20171212T144500Z
UID:TALK96487@talks.cam.ac.uk
CONTACT:INI IT
DESCRIPTION:
LOCATION:Seminar Room 2\, Newton Institute
END:VEVENT
END:VCALENDAR
