BEGIN:VCALENDAR
VERSION:2.0
PRODID:-//Talks.cam//talks.cam.ac.uk//
X-WR-CALNAME:Talks.cam
BEGIN:VEVENT
SUMMARY:Konrad Bajer Commemorative Symposium - Keith Moffatt (University o
 f Cambridge)
DTSTART:20171212T170000Z
DTEND:20171212T174500Z
UID:TALK96508@talks.cam.ac.uk
CONTACT:INI IT
DESCRIPTION:
LOCATION:Seminar Room 2\, Newton Institute
END:VEVENT
END:VCALENDAR
