BEGIN:VCALENDAR
VERSION:2.0
PRODID:-//Talks.cam//talks.cam.ac.uk//
X-WR-CALNAME:Talks.cam
BEGIN:VEVENT
SUMMARY:Interactions among metabolic disease\, brain microstructure and co
 gnition - Dr José Manuel Fernández Real\, University of Girona
DTSTART:20180306T131500Z
DTEND:20180306T141500Z
UID:TALK97006@talks.cam.ac.uk
CONTACT:Karen Laurence
DESCRIPTION:Abstract not available
LOCATION:Institute of Metabolic Science (IMS)\, Level 4 ATC\, Seminar room
 s 1-2 
END:VEVENT
END:VCALENDAR
