BEGIN:VCALENDAR
VERSION:2.0
PRODID:-//Talks.cam//talks.cam.ac.uk//
X-WR-CALNAME:Talks.cam
BEGIN:VEVENT
SUMMARY:C++ and the Standard Library - Tim Love (University of Cambridge)
DTSTART:20180209T150000Z
DTEND:20180209T160000Z
UID:TALK97045@talks.cam.ac.uk
CONTACT:Tim Love
DESCRIPTION:Aimed at CUED 3rd and 4th years\, but anyone's welcome
LOCATION:LR3\, Engineering\, Department of
END:VEVENT
END:VCALENDAR
