BEGIN:VCALENDAR
VERSION:2.0
PRODID:-//Talks.cam//talks.cam.ac.uk//
X-WR-CALNAME:Talks.cam
BEGIN:VEVENT
SUMMARY:Faster C++ - Tim Love (University of Cambridge)
DTSTART:20180223T150000Z
DTEND:20180223T160000Z
UID:TALK97051@talks.cam.ac.uk
CONTACT:Tim Love
DESCRIPTION:How to speed up your code
LOCATION:LR3\, Engineering\, Department of
END:VEVENT
END:VCALENDAR
