BEGIN:VCALENDAR
VERSION:2.0
PRODID:-//Talks.cam//talks.cam.ac.uk//
X-WR-CALNAME:Talks.cam
BEGIN:VEVENT
SUMMARY:Methods for visualizing high dimensional data - Wegman\, E (George
  Mason)
DTSTART:20080107T140000Z
DTEND:20080107T150000Z
UID:TALK9719@talks.cam.ac.uk
CONTACT:Mustapha Amrani
DESCRIPTION:
LOCATION:Seminar Room1 INI
END:VEVENT
END:VCALENDAR
