BEGIN:VCALENDAR
VERSION:2.0
PRODID:-//Talks.cam//talks.cam.ac.uk//
X-WR-CALNAME:Talks.cam
BEGIN:VEVENT
SUMMARY:Functional MRI across the lifespan: challenges and perspectives - 
 Kamen Tsvetanov (U. of Cambridge\, Dept of Psychology) 
DTSTART:20180124T123000Z
DTEND:20180124T133000Z
UID:TALK97234@talks.cam.ac.uk
CONTACT:Vicky Collins
DESCRIPTION:Abstract not available
LOCATION:Lecture Theatre\, MRC Cognition and Brain Sciences Unit\, Univers
 ity of Cambridge\, Chaucer Road
END:VEVENT
END:VCALENDAR
