BEGIN:VCALENDAR
VERSION:2.0
PRODID:-//Talks.cam//talks.cam.ac.uk//
X-WR-CALNAME:Talks.cam
BEGIN:VEVENT
SUMMARY:The surprising structure of Gaussian point clouds and its implicat
 ions for signal processing - Tanner\, J (Edinburgh)
DTSTART:20080110T140000Z
DTEND:20080110T150000Z
UID:TALK9734@talks.cam.ac.uk
CONTACT:Mustapha Amrani
DESCRIPTION:
LOCATION:Seminar Room1 INI
END:VEVENT
END:VCALENDAR
