BEGIN:VCALENDAR
VERSION:2.0
PRODID:-//Talks.cam//talks.cam.ac.uk//
X-WR-CALNAME:Talks.cam
BEGIN:VEVENT
SUMMARY:Challenges in human respiratory viral infection - Dr Christopher C
 hiu\, Imperial College London
DTSTART:20180606T113000Z
DTEND:20180606T123000Z
UID:TALK97378@talks.cam.ac.uk
CONTACT:Sue Griffin
DESCRIPTION:Abstract not available
LOCATION:Lecture Theatre\, Department of Pathology\, Tennis Court Road
END:VEVENT
END:VCALENDAR
