BEGIN:VCALENDAR
VERSION:2.0
PRODID:-//Talks.cam//talks.cam.ac.uk//
X-WR-CALNAME:Talks.cam
BEGIN:VEVENT
SUMMARY:Phase transitions and cluster expansions II - Kotecky\, R (Warwick
 )
DTSTART:20080115T160000Z
DTEND:20080115T170000Z
UID:TALK9743@talks.cam.ac.uk
CONTACT:Mustapha Amrani
DESCRIPTION:
LOCATION:Seminar Room1 INI
END:VEVENT
END:VCALENDAR
