BEGIN:VCALENDAR
VERSION:2.0
PRODID:-//Talks.cam//talks.cam.ac.uk//
X-WR-CALNAME:Talks.cam
BEGIN:VEVENT
SUMMARY:Compact Fusion - How Small? - Professor Steve Cowley\, University 
 of Oxford
DTSTART:20180118T163000Z
DTEND:20180118T180000Z
UID:TALK98221@talks.cam.ac.uk
CONTACT:Jo Boyle
DESCRIPTION:Fusion performance increases with the size of the reactor — 
 thus efforts to design prototype fusion reactors have typically resulted i
 n enormous machines.\nProfessor Cowley will describe efforts to shrink the
  cost and size of fusion reactor designs through\ntechnological innovation
 .\n\n
LOCATION:Department of Engineering - LT6
END:VEVENT
END:VCALENDAR
