BEGIN:VCALENDAR
VERSION:2.0
PRODID:-//Talks.cam//talks.cam.ac.uk//
X-WR-CALNAME:Talks.cam
BEGIN:VEVENT
SUMMARY:A new approach of strain localization within thin planar bands in 
 porous ductile solids - Jean-Baptiste Leblond (Paris 6)
DTSTART:20080121T130500Z
DTEND:20080121T140500Z
UID:TALK9840@talks.cam.ac.uk
CONTACT:cjh43
DESCRIPTION:Abstract not available
LOCATION:MR4\, DAMTP
END:VEVENT
END:VCALENDAR
