BEGIN:VCALENDAR
VERSION:2.0
PRODID:-//Talks.cam//talks.cam.ac.uk//
X-WR-CALNAME:Talks.cam
BEGIN:VEVENT
SUMMARY:PA Consulting: Exploiting emerging technologies - C.E. Lloyd\, PA 
 Consulting\, Melbourn\, Cambs
DTSTART:20080124T160000Z
DTEND:20080124T170000Z
UID:TALK9909@talks.cam.ac.uk
CONTACT:Stephen Walley
DESCRIPTION:PA Consulting offers a range of technology consulting\, produc
 t development and process development services\, all underpinned by our co
 mmitment to innovation\, responsiveness and delivery. We have a unique com
 bination of industry expertise and engineering capability. At our dedicate
 d technology centres in Cambridge UK\, and Princeton NJ\, we develop award
 -winning products\, automation and manufacturing processes\, and help clie
 nts understand and use technology more effectively. The presentation will 
 outline a brief history of PA Consulting - from its war-time beginnings\, 
 through turbulent economic times to the present day. Recent case studies w
 ill be discussed\, highlighting successful spin-out ventures. A brief outl
 ine of PA’s Consulting model will also be given.
LOCATION:Mott Seminar Room\, Cavendish Laboratory\, Department of Physics
END:VEVENT
END:VCALENDAR
