BEGIN:VCALENDAR
VERSION:2.0
PRODID:-//Talks.cam//talks.cam.ac.uk//
X-WR-CALNAME:Talks.cam
BEGIN:VEVENT
SUMMARY:Title: Look and You Will Find It – What Is Unsought Will Go Unde
 tected - Presenter: Dr Emile Hendriks
DTSTART:20180221T133000Z
DTEND:20180221T140000Z
UID:TALK99343@talks.cam.ac.uk
CONTACT:Vicky Clarke
DESCRIPTION:Specialist Lead: Professor David Rowitch\n\nLead Consultant: D
 r Carlo Acerini\n\nPresenter: Dr Emile Hendriks\n\nTitle: Look and You Wil
 l Find It – What Is Unsought Will Go Undetected\n\nSpecialty: Paediatric
 s\n\n
LOCATION:William Harvey Lecture Theatre
END:VEVENT
END:VCALENDAR
