BEGIN:VCALENDAR
VERSION:2.0
PRODID:-//Talks.cam//talks.cam.ac.uk//
X-WR-CALNAME:Talks.cam
BEGIN:VEVENT
SUMMARY:Title: Bad Blood\, Don’t Cux your Losses  - Presenter: Dr Mary D
 unne
DTSTART:20180221T130000Z
DTEND:20180221T133000Z
UID:TALK99346@talks.cam.ac.uk
CONTACT:Vicky Clarke
DESCRIPTION:Specialist Lead: Professor Tony Green\n\nLead Consultant: Dr C
 hi Wong\n\nPresenter: Dr Mary Dunne\n\nTitle: Bad Blood\, Don’t Cux your
  Losses \n\nSpecialty: Haematology\n
LOCATION:William Harvey Lecture Theatre
END:VEVENT
END:VCALENDAR
