BEGIN:VCALENDAR
VERSION:2.0
PRODID:-//Talks.cam//talks.cam.ac.uk//
X-WR-CALNAME:Talks.cam
BEGIN:VEVENT
SUMMARY:Organoid systems to study the maternal-fetal dialogue  of early pr
 egnancy - Margherita Turco\, Centre for Trophoblast  Research\,  Universit
 y of  Cambridge
DTSTART:20180309T131500Z
DTEND:20180309T135500Z
UID:TALK99466@talks.cam.ac.uk
CONTACT:Luigi Aloia
DESCRIPTION:Abstract not available
LOCATION:Biffen Lecture Theatre\, Genetics\, Department of
END:VEVENT
END:VCALENDAR
