BEGIN:VCALENDAR
VERSION:2.0
PRODID:-//Talks.cam//talks.cam.ac.uk//
X-WR-CALNAME:Talks.cam
BEGIN:VEVENT
SUMMARY:Mixing and transport of warm waters on the West Antarctic Peninsul
 a shelf - Alex Brearley\, British Antarctic Survey
DTSTART:20180122T130000Z
DTEND:20180122T140000Z
UID:TALK99670@talks.cam.ac.uk
CONTACT:Prof. John R. Taylor
DESCRIPTION:Abstract not available
LOCATION:MR5\, Centre for Mathematical Sciences
END:VEVENT
END:VCALENDAR
