BEGIN:VCALENDAR
VERSION:2.0
PRODID:-//Talks.cam//talks.cam.ac.uk//
X-WR-CALNAME:Talks.cam
BEGIN:VEVENT
SUMMARY:From Cradle to Grave: Laboratory Modelling of Internal Tides - Tho
 mas Peacock\,  MIT
DTSTART:20080229T160000Z
DTEND:20080229T170000Z
UID:TALK9984@talks.cam.ac.uk
CONTACT:Nigel Peake
DESCRIPTION:Abstract not available
LOCATION:MR2\, Centre for Mathematical Sciences
END:VEVENT
END:VCALENDAR
